Workbook

Sheet Budget
A1: Project Costing Template
B2: No. | C2: Category | D2: Proposed items | E2: Justifications | F2: Budget
F3: Cost to SU | I3: Cost to LU
F4: 2023 | G4: 2024 | H4: Total (RM) | I4: 2023 | J4: 2024 | K4: Total (£)
A5: OPEX | B5: 1 | C5: Research Supplies and Materials | H5: =SUM(F5:G5) -> 0 | K5: =SUM(J5,I5) -> 0
H6: =SUM(F6:G6) -> 0 | K6: =SUM(J6,I6) -> 0
H7: =SUM(F7:G7) -> 0 | K7: =SUM(J7,I7) -> 0
H8: =SUM(F8:G8) -> 0 | K8: =SUM(J8,I8) -> 0
H9: =SUM(F9:G9) -> 0 | K9: =SUM(J9,I9) -> 0
H10: =SUM(F10:G10) -> 0 | K10: =SUM(J10,I10) -> 0
H11: =SUM(F11:G11) -> 0 | K11: =SUM(J11,I11) -> 0
D12: Sub-total | F12: =SUM(F5:F11) -> 0 | G12: =SUM(G5:G11) -> 0 | H12: =SUM(H5:H11) -> 0 | I12: =SUM(I5:I11) -> 0 | J12: =SUM(J5:J11) -> 0 | K12: =SUM(K5:K11) -> 0
B13: 2 | C13: Rental | H13: =SUM(F13:G13) -> 0 | K13: =SUM(J13,I13) -> 0
H14: =SUM(F14:G14) -> 0 | K14: =SUM(J14,I14) -> 0
H15: =SUM(F15:G15) -> 0 | K15: =SUM(J15,I15) -> 0
H16: =SUM(F16:G16) -> 0 | K16: =SUM(J16,I16) -> 0
H17: =SUM(F17:G17) -> 0 | K17: =SUM(J17,I17) -> 0
H18: =SUM(F18:G18) -> 0 | K18: =SUM(J18,I18) -> 0
D19: Sub-total | F19: =SUM(F13:F18) -> 0 | G19: =SUM(G13:G18) -> 0 | H19: =SUM(H13:H18) -> 0 | I19: =SUM(I13:I18) -> 0 | J19: =SUM(J13:J18) -> 0 | K19: =SUM(K13:K18) -> 0
B20: 3 | C20: Professional Services | H20: =SUM(F20:G20) -> 0 | K20: =SUM(J20,I20) -> 0
H21: =SUM(F21:G21) -> 0 | K21: =SUM(J21,I21) -> 0
H22: =SUM(F22:G22) -> 0 | K22: =SUM(J22,I22) -> 0
H23: =SUM(F23:G23) -> 0 | K23: =SUM(J23,I23) -> 0
H24: =SUM(F24:G24) -> 0 | K24: =SUM(J24,I24) -> 0
H25: =SUM(F25:G25) -> 0 | K25: =SUM(J25,I25) -> 0
H26: =SUM(F26:G26) -> 0 | K26: =SUM(J26,I26) -> 0
H27: =SUM(F27:G27) -> 0 | K27: =SUM(J27,I27) -> 0
D28: Sub-total | F28: =SUM(F20:F27) -> 0 | G28: =SUM(G20:G27) -> 0 | H28: =SUM(H20:H27) -> 0 | I28: =SUM(I20:I27) -> 0 | J28: =SUM(J20:J27) -> 0 | K28: =SUM(K20:K27) -> 0
B29: 4 | C29: Travel, Transportation and Living Expenses | H29: =SUM(F29:G29) -> 0 | K29: =SUM(J29,I29) -> 0
H30: =SUM(F30:G30) -> 0 | K30: =SUM(J30,I30) -> 0
H31: =SUM(F31:G31) -> 0 | K31: =SUM(J31,I31) -> 0
H32: =SUM(F32:G32) -> 0 | K32: =SUM(J32,I32) -> 0
H33: =SUM(F33:G33) -> 0 | K33: =SUM(J33,I33) -> 0
H34: =SUM(F34:G34) -> 0 | K34: =SUM(J34,I34) -> 0
H35: =SUM(F35:G35) -> 0 | K35: =SUM(J35,I35) -> 0
H36: =SUM(F36:G36) -> 0 | K36: =SUM(J36,I36) -> 0
D37: Sub-total | F37: =SUM(F29:F36) -> 0 | G37: =SUM(G29:G36) -> 0 | H37: =SUM(H29:H36) -> 0 | I37: =SUM(I29:I36) -> 0 | J37: =SUM(J29:J36) -> 0 | K37: =SUM(K29:K36) -> 0
A38: CAPEX | B38: 5 | C38: Accessories and Equipment Indicate the location (i.e. lab or room) that the equipment will be placed | H38: =SUM(F38:G38) -> 0 | K38: =SUM(J38,I38) -> 0
H39: =SUM(F39:G39) -> 0 | K39: =SUM(J39,I39) -> 0
H40: =SUM(F40:G40) -> 0 | K40: =SUM(J40,I40) -> 0
...

Sheet Summary
A1: Project Costing Template
C2: Cost to SU | G2: Cost to LU
A3: No. | B3: Category | C3: 2023 | D3: 2024 | E3: Total | F3: % | G3: 2023 | H3: 2024 | I3: Total | J3: %
A4: 1 | B4: Research Supplies and Materials | C4: =Budget!F12 -> 0 | D4: =Budget!G12 -> 0 | E4: =SUM(C4:D4) -> 0 | F4: =E4/$E$9 -> #DIV/0! | G4: =Budget!I12 -> 0 | H4: =Budget!J12 -> 0 | I4: =SUM(G4:H4) -> 0 | J4: =I4/$I$9 -> #DIV/0!
A5: 2 | B5: Rental | C5: =Budget!F19 -> 0 | D5: =Budget!G19 -> 0 | E5: =SUM(C5:D5) -> 0 | F5: =E5/$E$9 -> #DIV/0! | G5: =Budget!I19 -> 0 | H5: =Budget!J19 -> 0 | I5: =SUM(G5:H5) -> 0 | J5: =I5/$I$9 -> #DIV/0!
A6: 3 | B6: Professional Services | C6: =Budget!F28 -> 0 | D6: =Budget!G28 -> 0 | E6: =SUM(C6:D6) -> 0 | F6: =E6/$E$9 -> #DIV/0! | G6: =Budget!I28 -> 0 | H6: =Budget!J28 -> 0 | I6: =SUM(G6:H6) -> 0 | J6: =I6/$I$9 -> #DIV/0!
A7: 4 | B7: Travel, Transportation and Living Expenses | C7: =Budget!F37 -> 0 | D7: =Budget!G37 -> 0 | E7: =SUM(C7:D7) -> 0 | F7: =E7/$E$9 -> #DIV/0! | G7: =Budget!I37 -> 0 | H7: =Budget!J37 -> 0 | I7: =SUM(G7:H7) -> 0 | J7: =I7/$I$9 -> #DIV/0!
A8: 5 | B8: Accessories and Equipment | C8: =Budget!F46 -> 0 | D8: =Budget!G46 -> 0 | E8: =SUM(C8:D8) -> 0 | F8: =E8/$E$9 -> #DIV/0! | G8: =Budget!I46 -> 0 | H8: =Budget!J46 -> 0 | I8: =SUM(G8:H8) -> 0 | J8: =I8/$I$9 -> #DIV/0!
B9: TOTAL (RM) | C9: =SUM(C4:C8) -> 0 | D9: =SUM(D4:D8) -> 0 | E9: =SUM(E4:E8) -> 0 | F9: =E9/$E$9 -> #DIV/0! | G9: =SUM(G4:G8) -> 0 | H9: =SUM(H4:H8) -> 0 | I9: =SUM(I4:I8) -> 0 | J9: =I9/$I$9 -> #DIV/0!
B11: OPEX | C11: =SUM(E4:E7) -> 0 | D11: =C11/C13 -> #DIV/0! | G11: OPEX | H11: =SUM(I4:I7) -> 0 | I11: =H11/H13 -> #DIV/0!
B12: CAPEX | C12: =E8 -> 0 | D12: =C12/C13 -> #DIV/0! | G12: CAPEX | H12: =I8 -> 0 | I12: =H12/H13 -> #DIV/0!
C13: =SUM(C11:C12) -> 0 | D13: =SUM(D11:D12) -> #DIV/0! | H13: =SUM(H11:H12) -> 0 | I13: =SUM(I11:I12) -> #DIV/0!
